BEGIN:VCALENDAR
VERSION:2.0
PRODID:-//Plone.org//NONSGML plone.app.event//EN
X-WR-TIMEZONE:Europe/Madrid
BEGIN:VEVENT
SUMMARY:Rua de Carnaval
DTSTART;TZID=Europe/Madrid;VALUE=DATE-TIME:20110305T170000
DTEND;TZID=Europe/Madrid;VALUE=DATE-TIME:20110305T180000
DTSTAMP;VALUE=DATE-TIME:20260421T200643Z
UID:a8983a34e8b78e9f52d1821f378489ec
CREATED;VALUE=DATE-TIME:20110305T000000Z
CATEGORIES:Festa
LOCATION:Riera, de la plaça Mare Paula Montalt fins a la plaça de l'Església
ORGANIZER:Entitats locals i Regidoria de Cultura
DESCRIPTION:amb la Harpo's Band i la Clown Band
URL:https://arenysdemar.cat/document.php?id=22492
END:VEVENT
END:VCALENDAR