BEGIN:VCALENDAR
VERSION:2.0
PRODID:-//Plone.org//NONSGML plone.app.event//EN
X-WR-TIMEZONE:Europe/Madrid
BEGIN:VEVENT
SUMMARY:Berenar popular
DTSTART;TZID=Europe/Madrid;VALUE=DATE-TIME:20110305T180000
DTEND;TZID=Europe/Madrid;VALUE=DATE-TIME:20110305T190000
DTSTAMP;VALUE=DATE-TIME:20260421T211218Z
UID:b854600b2030223eecc926dc269ebe6a
CREATED;VALUE=DATE-TIME:20110305T000000Z
CATEGORIES:Festa
LOCATION:Plaça de l'Església - Plaça de l'Església
ORGANIZER:Regidoria de Cultura
URL:https://arenysdemar.cat/document.php?id=22494
END:VEVENT
END:VCALENDAR