BEGIN:VCALENDAR
VERSION:2.0
PRODID:-//Plone.org//NONSGML plone.app.event//EN
X-WR-TIMEZONE:Europe/Madrid
BEGIN:VEVENT
SUMMARY:Escudella de recapte
DTSTART;TZID=Europe/Madrid;VALUE=DATE-TIME:20110308T200000
DTEND;TZID=Europe/Madrid;VALUE=DATE-TIME:20110308T210000
DTSTAMP;VALUE=DATE-TIME:20260420T175838Z
UID:0ddbe17db711d7a2712d0208c80d116e
CREATED;VALUE=DATE-TIME:20110308T000000Z
CATEGORIES:Festa
LOCATION:Riera davant del Calisay
ORGANIZER:AEG Flos i Calcat i Regidoria de Cultura
URL:https://arenysdemar.cat/document.php?id=22497
END:VEVENT
END:VCALENDAR