BEGIN:VCALENDAR
VERSION:2.0
PRODID:-//Plone.org//NONSGML plone.app.event//EN
X-WR-TIMEZONE:Europe/Madrid
BEGIN:VEVENT
SUMMARY:Exposició de fotografies : Lumiukot(Ninots de neu)
DTSTART;TZID=Europe/Madrid;VALUE=DATE-TIME:20110304T000000
DTEND;TZID=Europe/Madrid;VALUE=DATE-TIME:20110304T010000
DTSTAMP;VALUE=DATE-TIME:20260420T160217Z
UID:5c20cf03b7f49387d452620b88f530c2
CREATED;VALUE=DATE-TIME:20110304T000000Z
CATEGORIES:Exposició
LOCATION:Sala exposicions Lloveras - C. Sant Antoni, s/n
ORGANIZER:Regidoria de Cultura
COMMENT:Durada: fins al 27 de març
DESCRIPTION:a càrrec de Leila Tanskanen
URL:https://arenysdemar.cat/document.php?id=22499
END:VEVENT
END:VCALENDAR