BEGIN:VCALENDAR
VERSION:2.0
PRODID:-//Plone.org//NONSGML plone.app.event//EN
X-WR-TIMEZONE:Europe/Madrid
BEGIN:VEVENT
SUMMARY:Exposició: El català? És chévere!
DTSTART;TZID=Europe/Madrid;VALUE=DATE-TIME:20110301T000000
DTEND;TZID=Europe/Madrid;VALUE=DATE-TIME:20110301T010000
DTSTAMP;VALUE=DATE-TIME:20260424T151123Z
UID:f14127fe55773e08ae5a7525bb8472e9
CREATED;VALUE=DATE-TIME:20110301T000000Z
CATEGORIES:Exposició
LOCATION:Sala de les Bótes C.C.Calisay
ORGANIZER:Plataforma per la llengua
COMMENT:Durada: 20 de març de 2011
DESCRIPTION:Adreçada al col·lectiu immigrat, presenta arguments per a adoptar la llengua catalana.
URL:https://arenysdemar.cat/document.php?id=22503
END:VEVENT
END:VCALENDAR