BEGIN:VCALENDAR
VERSION:2.0
PRODID:-//Plone.org//NONSGML plone.app.event//EN
X-WR-TIMEZONE:Europe/Madrid
BEGIN:VEVENT
SUMMARY:Curs d'història de la música : La història de l'orquestra
DTSTART;TZID=Europe/Madrid;VALUE=DATE-TIME:20110314T200000
DTEND;TZID=Europe/Madrid;VALUE=DATE-TIME:20110314T210000
DTSTAMP;VALUE=DATE-TIME:20260421T202202Z
UID:b6b998a12d6c9e5dc4b1a7502ec5322f
CREATED;VALUE=DATE-TIME:20110314T000000Z
CATEGORIES:Música
LOCATION:Sala Noble del C.C.Calisay - Riera Pare Fita, 31
ORGANIZER:Associació Escola de Música d'Arenys de Mar
DESCRIPTION:a càrrec de Joan Vives, flautista, historiador i divulgador musical
URL:https://arenysdemar.cat/document.php?id=22514
END:VEVENT
END:VCALENDAR