BEGIN:VCALENDAR
VERSION:2.0
PRODID:-//Plone.org//NONSGML plone.app.event//EN
X-WR-TIMEZONE:Europe/Madrid
BEGIN:VEVENT
SUMMARY:Curs d'història de la música : L´orquestra barroca i l´orquestra del classicisme
DTSTART;TZID=Europe/Madrid;VALUE=DATE-TIME:20110321T200000
DTEND;TZID=Europe/Madrid;VALUE=DATE-TIME:20110321T210000
DTSTAMP;VALUE=DATE-TIME:20260421T002410Z
UID:0b037f9325c94e94f540f885634e22d7
CREATED;VALUE=DATE-TIME:20110321T000000Z
CATEGORIES:Música
LOCATION:Sala Noble del C.C.Calisay - Riera Pare Fita, 31
ORGANIZER:Associació Escola de Música d'Arenys de Mar
DESCRIPTION:a càrrec de Joan Vives, flautista, historiador i divulgador musical
URL:https://arenysdemar.cat/document.php?id=22515
END:VEVENT
END:VCALENDAR