BEGIN:VCALENDAR
VERSION:2.0
PRODID:-//Plone.org//NONSGML plone.app.event//EN
X-WR-TIMEZONE:Europe/Madrid
BEGIN:VEVENT
SUMMARY:Curs d'història de la música : La història de l'orquestra. El segle XX de Debussy al món digital
DTSTART;TZID=Europe/Madrid;VALUE=DATE-TIME:20110404T200000
DTEND;TZID=Europe/Madrid;VALUE=DATE-TIME:20110404T210000
DTSTAMP;VALUE=DATE-TIME:20260421T184537Z
UID:7c09e752314b3ed9e02afb1e9131659c
CREATED;VALUE=DATE-TIME:20110404T000000Z
CATEGORIES:Música
LOCATION:Sala Noble del C.C.Calisay - Riera Pare Fita, 31
ORGANIZER:Associació Escola de Música
DESCRIPTION:a càrrec de Joan Vives, flautista, historiador i divulgador musical
URL:https://arenysdemar.cat/document.php?id=22517
END:VEVENT
END:VCALENDAR