BEGIN:VCALENDAR
VERSION:2.0
PRODID:-//Plone.org//NONSGML plone.app.event//EN
X-WR-TIMEZONE:Europe/Madrid
BEGIN:VEVENT
SUMMARY:Hora del conte
DTSTART;TZID=Europe/Madrid;VALUE=DATE-TIME:20110317T180000
DTEND;TZID=Europe/Madrid;VALUE=DATE-TIME:20110317T190000
DTSTAMP;VALUE=DATE-TIME:20260420T190129Z
UID:c7c421348f60cbee1dbb32ccc5cd8721
CREATED;VALUE=DATE-TIME:20110317T000000Z
CATEGORIES:Infantils
LOCATION:Sala d'actes de la Biblioteca - C. Bonaire, 2
ORGANIZER:Biblioteca - Regidoria de Cultura
DESCRIPTION:a càrrec de Ruth Rodríguez
URL:https://arenysdemar.cat/document.php?id=22525
END:VEVENT
END:VCALENDAR