BEGIN:VCALENDAR
VERSION:2.0
PRODID:-//Plone.org//NONSGML plone.app.event//EN
X-WR-TIMEZONE:Europe/Madrid
BEGIN:VEVENT
SUMMARY:Audició de sardanes
DTSTART;TZID=Europe/Madrid;VALUE=DATE-TIME:20110825T193000
DTEND;TZID=Europe/Madrid;VALUE=DATE-TIME:20110825T203000
DTSTAMP;VALUE=DATE-TIME:20260424T024300Z
UID:e40ae398c56f85936763520d7f91fbd5
CREATED;VALUE=DATE-TIME:20110825T000000Z
CATEGORIES:Dansa
LOCATION:Plaça de l'Església - Plaça de l'Església
ORGANIZER:Regidoria de Cultura i Ateneu Arenyenc
DESCRIPTION:a càrrec de la Cobla Marinada
URL:https://arenysdemar.cat/document.php?id=22567
END:VEVENT
END:VCALENDAR