BEGIN:VCALENDAR
VERSION:2.0
PRODID:-//Plone.org//NONSGML plone.app.event//EN
X-WR-TIMEZONE:Europe/Madrid
BEGIN:VEVENT
SUMMARY:20è Festival de Jazz
DTSTART;TZID=Europe/Madrid;VALUE=DATE-TIME:20110812T230000
DTEND;TZID=Europe/Madrid;VALUE=DATE-TIME:20110813T000000
DTSTAMP;VALUE=DATE-TIME:20260424T061834Z
UID:02d4d3a556da0311b803f880b253d3a5
CREATED;VALUE=DATE-TIME:20110812T000000Z
CATEGORIES:Música
LOCATION:Pati del Xifré - Auterive, s/n
ORGANIZER:Regidoria de Cultura i OCR
DESCRIPTION:a càrrec de Tandoori Lenoir
URL:https://arenysdemar.cat/document.php?id=22570
END:VEVENT
END:VCALENDAR