BEGIN:VCALENDAR
VERSION:2.0
PRODID:-//Plone.org//NONSGML plone.app.event//EN
X-WR-TIMEZONE:Europe/Madrid
BEGIN:VEVENT
SUMMARY:Concert de música
DTSTART;TZID=Europe/Madrid;VALUE=DATE-TIME:20110813T220000
DTEND;TZID=Europe/Madrid;VALUE=DATE-TIME:20110813T230000
DTSTAMP;VALUE=DATE-TIME:20260420T072906Z
UID:1dbead341985d48738e337f03601ba78
CREATED;VALUE=DATE-TIME:20110813T000000Z
CATEGORIES:Música
LOCATION:Gruta de Lurdes - Parc de Lurdes
ORGANIZER:Regidoria de Cultura i Ass. Escola de Música
DESCRIPTION:a càrrec dels Ministrers de la Tabola
URL:https://arenysdemar.cat/document.php?id=22577
END:VEVENT
END:VCALENDAR