BEGIN:VCALENDAR
VERSION:2.0
PRODID:-//Plone.org//NONSGML plone.app.event//EN
X-WR-TIMEZONE:Europe/Madrid
BEGIN:VEVENT
SUMMARY:Pregó de Festa Major
DTSTART;TZID=Europe/Madrid;VALUE=DATE-TIME:20110708T203000
DTEND;TZID=Europe/Madrid;VALUE=DATE-TIME:20110708T213000
DTSTAMP;VALUE=DATE-TIME:20260422T042756Z
UID:a798e2a097176228e9e2407f1e1b6400
CREATED;VALUE=DATE-TIME:20110708T000000Z
CATEGORIES:Festa
LOCATION:Plaça Ajuntament - Riera Bisbe Pol, 8
ORGANIZER:Ajuntament d'Arenys de Mar
DESCRIPTION:a càrrec de l'Escola Joan Maragall en celebració del seus 50 anys
URL:https://arenysdemar.cat/document.php?id=22582
END:VEVENT
END:VCALENDAR