BEGIN:VCALENDAR
VERSION:2.0
PRODID:-//Plone.org//NONSGML plone.app.event//EN
X-WR-TIMEZONE:Europe/Madrid
BEGIN:VEVENT
SUMMARY:Solemnes Completes i Cant del tradicional Himne a Sant Zenon
DTSTART;TZID=Europe/Madrid;VALUE=DATE-TIME:20110708T220000
DTEND;TZID=Europe/Madrid;VALUE=DATE-TIME:20110708T230000
DTSTAMP;VALUE=DATE-TIME:20260422T060953Z
UID:47eab1f04f4ac81c76cf95f22a5bca34
CREATED;VALUE=DATE-TIME:20110708T000000Z
LOCATION:Església de Santa Maria - Plaça de l'Església
ORGANIZER:Parròquia de Santa Maria d'Arenys de Mar
DESCRIPTION:Cantem un himne a Sant Zenon, Patró d'Arenys, la gaia vila,...
URL:https://arenysdemar.cat/document.php?id=22584
END:VEVENT
END:VCALENDAR