BEGIN:VCALENDAR
VERSION:2.0
PRODID:-//Plone.org//NONSGML plone.app.event//EN
X-WR-TIMEZONE:Europe/Madrid
BEGIN:VEVENT
SUMMARY:Cercavila de Gegants
DTSTART;TZID=Europe/Madrid;VALUE=DATE-TIME:20110709T190000
DTEND;TZID=Europe/Madrid;VALUE=DATE-TIME:20110709T200000
DTSTAMP;VALUE=DATE-TIME:20260422T043112Z
UID:194b303aa852be75e916d766411c2c72
CREATED;VALUE=DATE-TIME:20110709T000000Z
CATEGORIES:Festa
LOCATION:Carrers de la Vila
ORGANIZER:Regidoria de Cultura i Ass. de Geganters d'Arenys de mar
DESCRIPTION:amb la Flor d'Alba i en Tallaferro, la Maria i en Roc, la Carmeta i l'Elm i tots el capgrossos
URL:https://arenysdemar.cat/document.php?id=22587
END:VEVENT
END:VCALENDAR