BEGIN:VCALENDAR
VERSION:2.0
PRODID:-//Plone.org//NONSGML plone.app.event//EN
X-WR-TIMEZONE:Europe/Madrid
BEGIN:VEVENT
SUMMARY:Ball popular
DTSTART;TZID=Europe/Madrid;VALUE=DATE-TIME:20110709T235900
DTEND;TZID=Europe/Madrid;VALUE=DATE-TIME:20110710T005900
DTSTAMP;VALUE=DATE-TIME:20260422T042940Z
UID:240f7f31c14d199e46b57307a2e99004
CREATED;VALUE=DATE-TIME:20110709T000000Z
CATEGORIES:Festa
LOCATION:Riera, part alta
ORGANIZER:Regidoria de Cultura
DESCRIPTION:amb l'Orquestra Rosaleda
URL:https://arenysdemar.cat/document.php?id=22591
END:VEVENT
END:VCALENDAR