BEGIN:VCALENDAR
VERSION:2.0
PRODID:-//Plone.org//NONSGML plone.app.event//EN
X-WR-TIMEZONE:Europe/Madrid
BEGIN:VEVENT
SUMMARY:Trobada de gegants a Canet de Mar
DTSTART;TZID=Europe/Madrid;VALUE=DATE-TIME:20110702T000000
DTEND;TZID=Europe/Madrid;VALUE=DATE-TIME:20110702T010000
DTSTAMP;VALUE=DATE-TIME:20260422T040908Z
UID:8bee0196c857bde5996dca19f8e0b6ef
CREATED;VALUE=DATE-TIME:20110702T000000Z
CATEGORIES:Festa
LOCATION:Canet de Mar
ORGANIZER:Associació de Geganters d'Arenys de Mar
URL:https://arenysdemar.cat/document.php?id=22627
END:VEVENT
END:VCALENDAR