BEGIN:VCALENDAR
VERSION:2.0
PRODID:-//Plone.org//NONSGML plone.app.event//EN
X-WR-TIMEZONE:Europe/Madrid
BEGIN:VEVENT
SUMMARY:Trobada de gegants a Sant Pol de Mar
DTSTART;TZID=Europe/Madrid;VALUE=DATE-TIME:20110723T000000
DTEND;TZID=Europe/Madrid;VALUE=DATE-TIME:20110723T010000
DTSTAMP;VALUE=DATE-TIME:20260422T060924Z
UID:91cdf1391341c51def4ef23420b05094
CREATED;VALUE=DATE-TIME:20110723T000000Z
CATEGORIES:Festa
LOCATION:Sant Pol de Mar
ORGANIZER:Associació de Geganters d'Arenys de Mar
URL:https://arenysdemar.cat/document.php?id=22629
END:VEVENT
END:VCALENDAR