BEGIN:VCALENDAR
VERSION:2.0
PRODID:-//Plone.org//NONSGML plone.app.event//EN
X-WR-TIMEZONE:Europe/Madrid
BEGIN:VEVENT
SUMMARY:Hora del conte
DTSTART;TZID=Europe/Madrid;VALUE=DATE-TIME:20110428T180000
DTEND;TZID=Europe/Madrid;VALUE=DATE-TIME:20110428T190000
DTSTAMP;VALUE=DATE-TIME:20260424T024400Z
UID:f3bdb999082bc49c1af8945743a7611c
CREATED;VALUE=DATE-TIME:20110428T000000Z
CATEGORIES:Infantils
LOCATION:Sala d'actes de la Biblioteca - C. Bonaire, 2
ORGANIZER:Biblioteca - Regidoria de Cultura
DESCRIPTION:a càrrec de Cristina Sánchez
URL:https://arenysdemar.cat/document.php?id=22649
END:VEVENT
END:VCALENDAR