BEGIN:VCALENDAR
VERSION:2.0
PRODID:-//Plone.org//NONSGML plone.app.event//EN
X-WR-TIMEZONE:Europe/Madrid
BEGIN:VEVENT
SUMMARY:Setmana de portes obertes a l'Escola de Música Carles G. Vidiella
DTSTART;TZID=Europe/Madrid;VALUE=DATE-TIME:20110411T000000
DTEND;TZID=Europe/Madrid;VALUE=DATE-TIME:20110411T010000
DTSTAMP;VALUE=DATE-TIME:20260421T111229Z
UID:7a0ae0cb6745cd973b62a6a135d7647d
CREATED;VALUE=DATE-TIME:20110411T000000Z
CATEGORIES:Música
LOCATION:Escola de música/C.C.Calisay - Riera del Pare Fita, 31
ORGANIZER:Escola Municipal de Música Carles G. Vidiella
COMMENT:Durada: De l'11 al 15 d'abril
URL:https://arenysdemar.cat/document.php?id=22668
END:VEVENT
END:VCALENDAR