BEGIN:VCALENDAR
VERSION:2.0
PRODID:-//Plone.org//NONSGML plone.app.event//EN
X-WR-TIMEZONE:Europe/Madrid
BEGIN:VEVENT
SUMMARY:Exposició de pintura : Augia
DTSTART;TZID=Europe/Madrid;VALUE=DATE-TIME:20110401T180000
DTEND;TZID=Europe/Madrid;VALUE=DATE-TIME:20110401T190000
DTSTAMP;VALUE=DATE-TIME:20260420T142647Z
UID:0f4610cbe8301909122da440ac2a5fe6
CREATED;VALUE=DATE-TIME:20110401T000000Z
CATEGORIES:Exposició
LOCATION:Sala exposicions Lloveras - C. Sant Antoni, s/n
ORGANIZER:Regidoria de Cultura
COMMENT:Durada: Fins al 24 d'abril de 2011
DESCRIPTION:a càrrec de Maria Oms
URL:https://arenysdemar.cat/document.php?id=22677
END:VEVENT
END:VCALENDAR