BEGIN:VCALENDAR
VERSION:2.0
PRODID:-//Plone.org//NONSGML plone.app.event//EN
X-WR-TIMEZONE:Europe/Madrid
BEGIN:VEVENT
SUMMARY:Jocs gegants: Juga i juga
DTSTART;TZID=Europe/Madrid;VALUE=DATE-TIME:20110731T180000
DTEND;TZID=Europe/Madrid;VALUE=DATE-TIME:20110731T190000
DTSTAMP;VALUE=DATE-TIME:20260422T113604Z
UID:c6da62e1d6f6f8f988eaf59558027345
CREATED;VALUE=DATE-TIME:20110731T000000Z
CATEGORIES:Infantils
LOCATION:Balcó del Xifre - Auterive, s/n
ORGANIZER:Regidoria de Cultura i Floc
DESCRIPTION:amb la Xarranca
URL:https://arenysdemar.cat/document.php?id=22685
END:VEVENT
END:VCALENDAR