BEGIN:VCALENDAR
VERSION:2.0
PRODID:-//Plone.org//NONSGML plone.app.event//EN
X-WR-TIMEZONE:Europe/Madrid
BEGIN:VEVENT
SUMMARY:Missa del malalt
DTSTART;TZID=Europe/Madrid;VALUE=DATE-TIME:20110515T113000
DTEND;TZID=Europe/Madrid;VALUE=DATE-TIME:20110515T123000
DTSTAMP;VALUE=DATE-TIME:20260422T012247Z
UID:6fbc58470b3c2db6cd31dd59801a0e88
CREATED;VALUE=DATE-TIME:20110515T000000Z
LOCATION:Església de Santa Maria - Plaça de l'Església
ORGANIZER:Parròquia de Santa Maria d'Arenys de Mar
URL:https://arenysdemar.cat/document.php?id=22699
END:VEVENT
END:VCALENDAR