BEGIN:VCALENDAR
VERSION:2.0
PRODID:-//Plone.org//NONSGML plone.app.event//EN
X-WR-TIMEZONE:Europe/Madrid
BEGIN:VEVENT
SUMMARY:Mostra de titelles: L'ocell meravellós
DTSTART;TZID=Europe/Madrid;VALUE=DATE-TIME:20110711T200000
DTEND;TZID=Europe/Madrid;VALUE=DATE-TIME:20110711T210000
DTSTAMP;VALUE=DATE-TIME:20260422T040806Z
UID:0a3034355aa251d53478b87807a474f6
CREATED;VALUE=DATE-TIME:20110711T000000Z
CATEGORIES:Teatre
LOCATION:Plaça de l'Església - Plaça de l'Església
ORGANIZER:Binixiflat Teatre i Ajuntament d'Arenys de Mar
DESCRIPTION:a càrrec de Titelles Babi
URL:https://arenysdemar.cat/document.php?id=22726
END:VEVENT
END:VCALENDAR