BEGIN:VCALENDAR
VERSION:2.0
PRODID:-//Plone.org//NONSGML plone.app.event//EN
X-WR-TIMEZONE:Europe/Madrid
BEGIN:VEVENT
SUMMARY:Mostra de titelles: Els músics de Bremen
DTSTART;TZID=Europe/Madrid;VALUE=DATE-TIME:20110711T210000
DTEND;TZID=Europe/Madrid;VALUE=DATE-TIME:20110711T220000
DTSTAMP;VALUE=DATE-TIME:20260422T040826Z
UID:260d38fa97186f726e65bf81a2149695
CREATED;VALUE=DATE-TIME:20110711T000000Z
CATEGORIES:Teatre
LOCATION:Plaça de l'Església - Plaça de l'Església
ORGANIZER:Binixiflat Teatre i Ajuntament d'Arenys de Mar
DESCRIPTION:a càrrec de Sim Salabim
URL:https://arenysdemar.cat/document.php?id=22728
END:VEVENT
END:VCALENDAR