BEGIN:VCALENDAR
VERSION:2.0
PRODID:-//Plone.org//NONSGML plone.app.event//EN
X-WR-TIMEZONE:Europe/Madrid
BEGIN:VEVENT
SUMMARY:Contes al Museu : Teixint paraules a càrrec d'Albert Estengre
DTSTART;TZID=Europe/Madrid;VALUE=DATE-TIME:20110521T181500
DTEND;TZID=Europe/Madrid;VALUE=DATE-TIME:20110521T191500
DTSTAMP;VALUE=DATE-TIME:20260421T234626Z
UID:ec65fb65615de97d9b0081f20e28a114
CREATED;VALUE=DATE-TIME:20110521T000000Z
CATEGORIES:Infantils
LOCATION:Museu Marès de la Punta - Església, 43
ORGANIZER:Museu d'Arenys de Mar - Regidoria de Cultura
COMMENT:Preu: Gratuït
DESCRIPTION:Dia Internacional dels Museus
URL:https://arenysdemar.cat/document.php?id=22752
END:VEVENT
END:VCALENDAR