BEGIN:VCALENDAR
VERSION:2.0
PRODID:-//Plone.org//NONSGML plone.app.event//EN
X-WR-TIMEZONE:Europe/Madrid
BEGIN:VEVENT
SUMMARY:Jornada de portes obertes
DTSTART;TZID=Europe/Madrid;VALUE=DATE-TIME:20110521T000000
DTEND;TZID=Europe/Madrid;VALUE=DATE-TIME:20110521T010000
DTSTAMP;VALUE=DATE-TIME:20260422T030106Z
UID:aee32c2a8bc9ba108725a84f0a819983
CREATED;VALUE=DATE-TIME:20110521T000000Z
CATEGORIES:Exposició
LOCATION:Museu de la Punta i de Mineralogia
ORGANIZER:Museu d'Arenys de Mar - Regidoria de Cultura
COMMENT:Preu: Gratuït
Durada: També el 22 de maig
DESCRIPTION:Dia Internacional dels Museus
URL:https://arenysdemar.cat/document.php?id=22753
END:VEVENT
END:VCALENDAR