BEGIN:VCALENDAR
VERSION:2.0
PRODID:-//Plone.org//NONSGML plone.app.event//EN
X-WR-TIMEZONE:Europe/Madrid
BEGIN:VEVENT
SUMMARY:Racó de contes
DTSTART;TZID=Europe/Madrid;VALUE=DATE-TIME:20110730T220000
DTEND;TZID=Europe/Madrid;VALUE=DATE-TIME:20110730T230000
DTSTAMP;VALUE=DATE-TIME:20260422T040642Z
UID:cb352da406b078c1099fafadd5eb4d54
CREATED;VALUE=DATE-TIME:20110730T000000Z
CATEGORIES:Teatre
LOCATION:Riera davant del C.C.Calisay
ORGANIZER:Festival de Contes i Regidoria de Cultura
DESCRIPTION:Acompanya'ns de racó a racó i de conte a conte!
URL:https://arenysdemar.cat/document.php?id=22767
END:VEVENT
END:VCALENDAR