BEGIN:VCALENDAR
VERSION:2.0
PRODID:-//Plone.org//NONSGML plone.app.event//EN
X-WR-TIMEZONE:Europe/Madrid
BEGIN:VEVENT
SUMMARY:Conferència de Filosofia: L'aprenentage de la felicitat
DTSTART;TZID=Europe/Madrid;VALUE=DATE-TIME:20110517T180000
DTEND;TZID=Europe/Madrid;VALUE=DATE-TIME:20110517T190000
DTSTAMP;VALUE=DATE-TIME:20260421T204024Z
UID:d0028a05bc1eac3b6f85ba6fd880abfb
CREATED;VALUE=DATE-TIME:20110517T000000Z
CATEGORIES:Conferència
LOCATION:Auditori J.M. Arnau del C.C.Calisay - Riera del Pare Fita, 31
ORGANIZER:Aula d'Extensió Universitària
DESCRIPTION:a càrrec de Josep Otón catedràtic d'ensenyament secundari
URL:https://arenysdemar.cat/document.php?id=22768
END:VEVENT
END:VCALENDAR