BEGIN:VCALENDAR
VERSION:2.0
PRODID:-//Plone.org//NONSGML plone.app.event//EN
X-WR-TIMEZONE:Europe/Madrid
BEGIN:VEVENT
SUMMARY:Trobada de l'escriptora Laia Longan amb alumnes de l'escola Joan Maragall i Sinera
DTSTART;TZID=Europe/Madrid;VALUE=DATE-TIME:20110512T150000
DTEND;TZID=Europe/Madrid;VALUE=DATE-TIME:20110512T160000
DTSTAMP;VALUE=DATE-TIME:20260421T220349Z
UID:af7688e5c109f25df26f27f2a2774f06
CREATED;VALUE=DATE-TIME:20110512T000000Z
CATEGORIES:Literatura
LOCATION:Sala d'actes de la Biblioteca - C. Bonaire, 2
ORGANIZER:Biblioteca - Regidoria de Cultura i Editorial Animallibres
DESCRIPTION:ACTE POSPOSAT AL 3 DE JUNY
URL:https://arenysdemar.cat/document.php?id=22783
END:VEVENT
END:VCALENDAR