BEGIN:VCALENDAR
VERSION:2.0
PRODID:-//Plone.org//NONSGML plone.app.event//EN
X-WR-TIMEZONE:Europe/Madrid
BEGIN:VEVENT
SUMMARY:Festa de la Mare de Déu del Carme
DTSTART;TZID=Europe/Madrid;VALUE=DATE-TIME:20110716T180000
DTEND;TZID=Europe/Madrid;VALUE=DATE-TIME:20110716T190000
DTSTAMP;VALUE=DATE-TIME:20260420T221743Z
UID:318cbc69d8a3abb3930093b195f7edb4
CREATED;VALUE=DATE-TIME:20110716T000000Z
CATEGORIES:Festa
LOCATION:Port
ORGANIZER:Branca de Dones Anna Sáez, Confraria de Pescadors, Club Nàutic, Club de Rem i Club Pesca Mar-Sport. Col·labora : Ajuntament d'Arenys de Mar
DESCRIPTION:Processó de barques, missa i sardinada
URL:https://arenysdemar.cat/document.php?id=22787
END:VEVENT
END:VCALENDAR