BEGIN:VCALENDAR
VERSION:2.0
PRODID:-//Plone.org//NONSGML plone.app.event//EN
X-WR-TIMEZONE:Europe/Madrid
BEGIN:VEVENT
SUMMARY:Taller de música per a nadons
DTSTART;TZID=Europe/Madrid;VALUE=DATE-TIME:20110505T103000
DTEND;TZID=Europe/Madrid;VALUE=DATE-TIME:20110505T113000
DTSTAMP;VALUE=DATE-TIME:20260422T061005Z
UID:d34453d88eb885657cd0089f504b56f6
CREATED;VALUE=DATE-TIME:20110505T000000Z
CATEGORIES:Cursos,Infantils,Música
LOCATION:Escola de música/C.C.Calisay - Riera del Pare Fita, 31
ORGANIZER:Associació Escola de Música d'Arenys de Mar
COMMENT:Durada: tots el dijous del 5 de maig al 9 de juny
DESCRIPTION:viure la música a través dels sentits
URL:https://arenysdemar.cat/document.php?id=22798
END:VEVENT
END:VCALENDAR