BEGIN:VCALENDAR
VERSION:2.0
PRODID:-//Plone.org//NONSGML plone.app.event//EN
X-WR-TIMEZONE:Europe/Madrid
BEGIN:VEVENT
SUMMARY:XVª Milla Urbana d'Arenys de Mar
DTSTART;TZID=Europe/Madrid;VALUE=DATE-TIME:20110716T190000
DTEND;TZID=Europe/Madrid;VALUE=DATE-TIME:20110716T200000
DTSTAMP;VALUE=DATE-TIME:20260422T010036Z
UID:9c08052d2ea7ae6cfed7738e3ffcf2bd
CREATED;VALUE=DATE-TIME:20110716T000000Z
CATEGORIES:Esports
LOCATION:A la Riera (davant del C.C. Calisay)
ORGANIZER:Ajuntament d'Arenys de Mar i Penya Apa Anem-hi
URL:https://arenysdemar.cat/document.php?id=22830
END:VEVENT
END:VCALENDAR