BEGIN:VCALENDAR
VERSION:2.0
PRODID:-//Plone.org//NONSGML plone.app.event//EN
X-WR-TIMEZONE:Europe/Madrid
BEGIN:VEVENT
SUMMARY:Concert de Sant Zenon
DTSTART;TZID=Europe/Madrid;VALUE=DATE-TIME:20110702T220000
DTEND;TZID=Europe/Madrid;VALUE=DATE-TIME:20110702T230000
DTSTAMP;VALUE=DATE-TIME:20260422T023629Z
UID:3443cde4b015b1c1bbbb56277b962a4e
CREATED;VALUE=DATE-TIME:20110702T000000Z
CATEGORIES:Música
LOCATION:Església de Santa Maria - Plaça de l'Església
ORGANIZER:Cor l'Aixa
COMMENT:Preu: 10 &euro;
DESCRIPTION:a càrrec del Cor l'Aixa
URL:https://arenysdemar.cat/document.php?id=22837
END:VEVENT
END:VCALENDAR