BEGIN:VCALENDAR
VERSION:2.0
PRODID:-//Plone.org//NONSGML plone.app.event//EN
X-WR-TIMEZONE:Europe/Madrid
BEGIN:VEVENT
SUMMARY:Arribada de la Flama del Canigó i lectura del manifest
DTSTART;TZID=Europe/Madrid;VALUE=DATE-TIME:20110623T204500
DTEND;TZID=Europe/Madrid;VALUE=DATE-TIME:20110623T214500
DTSTAMP;VALUE=DATE-TIME:20260422T075942Z
UID:caf0e4836d93b8aa3c2451b02d31b98b
CREATED;VALUE=DATE-TIME:20110623T000000Z
CATEGORIES:Festa
LOCATION:Jardins dels Xifré
ORGANIZER:Comissió Flama del Canigó i Ajuntament d'Arenys de Mar
DESCRIPTION:La flama representa la unió de la gent del països catalans
URL:https://arenysdemar.cat/document.php?id=22851
END:VEVENT
END:VCALENDAR