BEGIN:VCALENDAR
VERSION:2.0
PRODID:-//Plone.org//NONSGML plone.app.event//EN
X-WR-TIMEZONE:Europe/Madrid
BEGIN:VEVENT
SUMMARY:Cantada d'Havaneres: Els Pirates
DTSTART;TZID=Europe/Madrid;VALUE=DATE-TIME:20110716T220000
DTEND;TZID=Europe/Madrid;VALUE=DATE-TIME:20110716T230000
DTSTAMP;VALUE=DATE-TIME:20260422T010021Z
UID:526a4481685be49c3b041760938f14de
CREATED;VALUE=DATE-TIME:20110716T000000Z
CATEGORIES:Música
LOCATION:Instal·lacions del Club de Pesca
ORGANIZER:Club de Pesca Mar-sport
COMMENT:Preu: Gratuït
DESCRIPTION:Festa de la Mare de Déu del Carme
URL:https://arenysdemar.cat/document.php?id=22852
END:VEVENT
END:VCALENDAR