BEGIN:VCALENDAR
VERSION:2.0
PRODID:-//Plone.org//NONSGML plone.app.event//EN
X-WR-TIMEZONE:Europe/Madrid
BEGIN:VEVENT
SUMMARY:4t Torneig volei platja circuit SVATour 2011
DTSTART;TZID=Europe/Madrid;VALUE=DATE-TIME:20110709T100000
DTEND;TZID=Europe/Madrid;VALUE=DATE-TIME:20110709T110000
DTSTAMP;VALUE=DATE-TIME:20260422T100529Z
UID:b7c6f1c76ff2080c8e7f52cf38a10503
CREATED;VALUE=DATE-TIME:20110709T000000Z
CATEGORIES:Esports
LOCATION:Platja Cavaió (3ª platja)
ORGANIZER:Associació Volei Arenys
URL:https://arenysdemar.cat/document.php?id=22857
END:VEVENT
END:VCALENDAR