BEGIN:VCALENDAR
VERSION:2.0
PRODID:-//Plone.org//NONSGML plone.app.event//EN
X-WR-TIMEZONE:Europe/Madrid
BEGIN:VEVENT
SUMMARY:Ball de la Revetlla de Sant Joan 2011 Vine a passar la nit més màgica!
DTSTART;TZID=Europe/Madrid;VALUE=DATE-TIME:20110624T003000
DTEND;TZID=Europe/Madrid;VALUE=DATE-TIME:20110624T013000
DTSTAMP;VALUE=DATE-TIME:20260422T060732Z
UID:8fc76045fccbc058cbb9476440a692ab
CREATED;VALUE=DATE-TIME:20110624T000000Z
CATEGORIES:Festa
LOCATION:Platja de la Picòrdia
ORGANIZER:Regidoria d'Infància i Joventut
COMMENT:Durada: Fins a dos quarts de sis del matí
DESCRIPTION:amb la Banda del coche rojo i el Dj Clandestino
URL:https://arenysdemar.cat/document.php?id=22860
END:VEVENT
END:VCALENDAR