BEGIN:VCALENDAR
VERSION:2.0
PRODID:-//Plone.org//NONSGML plone.app.event//EN
X-WR-TIMEZONE:Europe/Madrid
BEGIN:VEVENT
SUMMARY:Campanya Especial de donació de sang
DTSTART;TZID=Europe/Madrid;VALUE=DATE-TIME:20110711T100000
DTEND;TZID=Europe/Madrid;VALUE=DATE-TIME:20110711T110000
DTSTAMP;VALUE=DATE-TIME:20260420T160317Z
UID:1216cb541d2629d40a26684e214abc5d
CREATED;VALUE=DATE-TIME:20110711T000000Z
LOCATION:Riera davant del Calisay
ORGANIZER:Banc de sang i teixits
COMMENT:Durada: De 10 a 14h i de 17 a 21h
DESCRIPTION:per Sant Zenon dóna Sang
URL:https://arenysdemar.cat/document.php?id=22894
END:VEVENT
END:VCALENDAR