BEGIN:VCALENDAR
VERSION:2.0
PRODID:-//Plone.org//NONSGML plone.app.event//EN
X-WR-TIMEZONE:Europe/Madrid
BEGIN:VEVENT
SUMMARY:Exposició dels alumnes del taller de pintura de l'Ateneu Arenyenc
DTSTART;TZID=Europe/Madrid;VALUE=DATE-TIME:20110701T000000
DTEND;TZID=Europe/Madrid;VALUE=DATE-TIME:20110701T010000
DTSTAMP;VALUE=DATE-TIME:20260420T224311Z
UID:26feef792d15fbf93e19cc9caebc4438
CREATED;VALUE=DATE-TIME:20110701T000000Z
CATEGORIES:Exposició
LOCATION:Sala exposicions Lloveras - C. Sant Antoni, s/n
ORGANIZER:Regidoria de Cultura i Ateneu Arenyenc
COMMENT:Durada: Fins al 31 de juliol de 2011
URL:https://arenysdemar.cat/document.php?id=22896
END:VEVENT
END:VCALENDAR