BEGIN:VCALENDAR
VERSION:2.0
PRODID:-//Plone.org//NONSGML plone.app.event//EN
X-WR-TIMEZONE:Europe/Madrid
BEGIN:VEVENT
SUMMARY:Presentació llibre: Contes de la Bressola
DTSTART;TZID=Europe/Madrid;VALUE=DATE-TIME:20110625T183000
DTEND;TZID=Europe/Madrid;VALUE=DATE-TIME:20110625T193000
DTSTAMP;VALUE=DATE-TIME:20260422T003319Z
UID:6bdf2609af8ef33323023547aec455a6
CREATED;VALUE=DATE-TIME:20110625T000000Z
CATEGORIES:Literatura,Infantils
LOCATION:Biblioteca - Bonaire, 2
ORGANIZER:Biblioteca - Regidoria de Cultura i Amics de la Bressola i Arenys.Org
DESCRIPTION:amb la presència de l'escriptor Enric Larreula i Aleix Andreu, president dels Amics de la Bressola. També hi participaran les veus arenyenques que han col·laborat a la lectura dels contes
URL:https://arenysdemar.cat/document.php?id=22898
END:VEVENT
END:VCALENDAR