BEGIN:VCALENDAR
VERSION:2.0
PRODID:-//Plone.org//NONSGML plone.app.event//EN
X-WR-TIMEZONE:Europe/Madrid
BEGIN:VEVENT
SUMMARY:La Petjada dels Indians
DTSTART;TZID=Europe/Madrid;VALUE=DATE-TIME:20110703T093000
DTEND;TZID=Europe/Madrid;VALUE=DATE-TIME:20110703T103000
DTSTAMP;VALUE=DATE-TIME:20260422T040738Z
UID:a4986ca0cd46b968d1dbdb9682ba9fc8
CREATED;VALUE=DATE-TIME:20110703T000000Z
CATEGORIES:Teatre,Conferència
LOCATION:Sortida de la porta dels Jardins del Xifré
ORGANIZER:L'Alambiq i l'Ajuntament d'Arenys de Mar
COMMENT:Preu: Gratuïtes
Durada: Dues rutes teatralitzades d'una hora i mitja de durada: 1a sortida a les 9:30h. 2a sortida a les 11:00h. Per inscripcions a partir del dia 6 de juny a la Biblioteca
DESCRIPTION:Rutes Indianes teatralitzades per Arenys de Mar
URL:https://arenysdemar.cat/document.php?id=22902
END:VEVENT
END:VCALENDAR