BEGIN:VCALENDAR
VERSION:2.0
PRODID:-//Plone.org//NONSGML plone.app.event//EN
X-WR-TIMEZONE:Europe/Madrid
BEGIN:VEVENT
SUMMARY:La Petjada dels Indians
DTSTART;TZID=Europe/Madrid;VALUE=DATE-TIME:20110702T180000
DTEND;TZID=Europe/Madrid;VALUE=DATE-TIME:20110702T190000
DTSTAMP;VALUE=DATE-TIME:20260422T040841Z
UID:eaf90cd3eb671704438ebfe4f75cd4da
CREATED;VALUE=DATE-TIME:20110702T000000Z
CATEGORIES:Mostra,Teatre,Conferència
LOCATION:Sortida de la porta dels Jardins del Xifré
ORGANIZER:L'Alambiq juntament amb Ajuntament d'Arenys de Mar
COMMENT:Preu: Gratuïtes
Durada: Dues rutes teatralitzades d'una hora i mitja de durada: 1a sortida a les 18:00h. 2a sortida a les 20:00h. Per inscripcions a partir del dia 6 de juny a la Biblioteca
DESCRIPTION:Rutes Indianes teatralitzades per Arenys de Mar
URL:https://arenysdemar.cat/document.php?id=22903
END:VEVENT
END:VCALENDAR