BEGIN:VCALENDAR
VERSION:2.0
PRODID:-//Plone.org//NONSGML plone.app.event//EN
X-WR-TIMEZONE:Europe/Madrid
BEGIN:VEVENT
SUMMARY:Concert Jove: Terratombats
DTSTART;TZID=Europe/Madrid;VALUE=DATE-TIME:20110709T020000
DTEND;TZID=Europe/Madrid;VALUE=DATE-TIME:20110709T030000
DTSTAMP;VALUE=DATE-TIME:20260422T073539Z
UID:3552edcab059f4bf010be3085a4cea82
CREATED;VALUE=DATE-TIME:20110709T000000Z
CATEGORIES:Festa
LOCATION:Plaça de l'Església - Plaça de l'Església
ORGANIZER:Consell de Joves i Regidoria d'Infància i Joventut
DESCRIPTION:rumba catalana a la plaça de l'església!!!
URL:https://arenysdemar.cat/document.php?id=22913
END:VEVENT
END:VCALENDAR