BEGIN:VCALENDAR
VERSION:2.0
PRODID:-//Plone.org//NONSGML plone.app.event//EN
X-WR-TIMEZONE:Europe/Madrid
BEGIN:VEVENT
SUMMARY:Barraques 2011: Hotel Cochambre
DTSTART;TZID=Europe/Madrid;VALUE=DATE-TIME:20110710T023000
DTEND;TZID=Europe/Madrid;VALUE=DATE-TIME:20110710T033000
DTSTAMP;VALUE=DATE-TIME:20260422T042829Z
UID:ae521171676148cddcf265d82ccb2aad
CREATED;VALUE=DATE-TIME:20110710T000000Z
CATEGORIES:Festa
LOCATION:Platja de la Picòrdia
ORGANIZER:Consell de Joves i Regidoria d'Infància i Joventut
URL:https://arenysdemar.cat/document.php?id=22916
END:VEVENT
END:VCALENDAR