BEGIN:VCALENDAR
VERSION:2.0
PRODID:-//Plone.org//NONSGML plone.app.event//EN
X-WR-TIMEZONE:Europe/Madrid
BEGIN:VEVENT
SUMMARY:Protomembrana -Lliçó mecatrònica-
DTSTART;TZID=Europe/Madrid;VALUE=DATE-TIME:20110715T220000
DTEND;TZID=Europe/Madrid;VALUE=DATE-TIME:20110715T230000
DTSTAMP;VALUE=DATE-TIME:20260422T023852Z
UID:f980a0c49bb2f4044a07b620058c21a5
CREATED;VALUE=DATE-TIME:20110715T000000Z
CATEGORIES:Teatre
LOCATION:Teatre Principal - C. Església, 45-47
ORGANIZER:SC L'Esperança - Regidoria de Cultura
COMMENT:Preu: 10 
DESCRIPTION:Performance a càrrec de Marcel·lí Antúnez Roca
URL:https://arenysdemar.cat/document.php?id=22947
END:VEVENT
END:VCALENDAR