BEGIN:VCALENDAR
VERSION:2.0
PRODID:-//Plone.org//NONSGML plone.app.event//EN
X-WR-TIMEZONE:Europe/Madrid
BEGIN:VEVENT
SUMMARY:20è Festival de Jazz
DTSTART;TZID=Europe/Madrid;VALUE=DATE-TIME:20110722T200000
DTEND;TZID=Europe/Madrid;VALUE=DATE-TIME:20110722T210000
DTSTAMP;VALUE=DATE-TIME:20260422T024313Z
UID:4c9633d358ef1181015637e500b9a434
CREATED;VALUE=DATE-TIME:20110722T000000Z
CATEGORIES:Música
LOCATION:Plaça de l'Església - Plaça de l'Església
ORGANIZER:Regidoria de Cultura, OCR i l'Escola de Música Municipal Carles G.Vidiella
DESCRIPTION:Concert a càrrec de la Big Band de l'EMA
URL:https://arenysdemar.cat/document.php?id=22965
END:VEVENT
END:VCALENDAR