BEGIN:VCALENDAR
VERSION:2.0
PRODID:-//Plone.org//NONSGML plone.app.event//EN
X-WR-TIMEZONE:Europe/Madrid
BEGIN:VEVENT
SUMMARY:Presentació d'Encarrecs.cat
DTSTART;TZID=Europe/Madrid;VALUE=DATE-TIME:20110620T200000
DTEND;TZID=Europe/Madrid;VALUE=DATE-TIME:20110620T210000
DTSTAMP;VALUE=DATE-TIME:20260422T042955Z
UID:8049476936a8c6e39a38938c45ef9b3e
CREATED;VALUE=DATE-TIME:20110620T000000Z
CATEGORIES:Conferència
LOCATION:Sala gran d'entitats del CC Calisay - Riera Pare Fita, 31
DESCRIPTION:Presentació del projecte Encarrecs.cat al teixit comercial tradicional d'Arenys de Mar
URL:https://arenysdemar.cat/document.php?id=22982
END:VEVENT
END:VCALENDAR