BEGIN:VCALENDAR
VERSION:2.0
PRODID:-//Plone.org//NONSGML plone.app.event//EN
X-WR-TIMEZONE:Europe/Madrid
BEGIN:VEVENT
SUMMARY:Tarda de Guitar Hero a l'Espai Jove
DTSTART;TZID=Europe/Madrid;VALUE=DATE-TIME:20110701T163000
DTEND;TZID=Europe/Madrid;VALUE=DATE-TIME:20110701T173000
DTSTAMP;VALUE=DATE-TIME:20260422T024332Z
UID:61261b0c4be8536500c4875f9099f42e
CREATED;VALUE=DATE-TIME:20110701T000000Z
CATEGORIES:Música
LOCATION:Espai Jove del C.C.Calisay - Riera del Pare Fita, 31
ORGANIZER:Regidoria d'Infància i Joventut - Espai Jove
COMMENT:Preu: Gratuït
URL:https://arenysdemar.cat/document.php?id=22988
END:VEVENT
END:VCALENDAR