BEGIN:VCALENDAR
VERSION:2.0
PRODID:-//Plone.org//NONSGML plone.app.event//EN
X-WR-TIMEZONE:Europe/Madrid
BEGIN:VEVENT
SUMMARY:Tòmbola JMJ ( Jornada Mundial de la Juventud)
DTSTART;TZID=Europe/Madrid;VALUE=DATE-TIME:20110702T090000
DTEND;TZID=Europe/Madrid;VALUE=DATE-TIME:20110702T100000
DTSTAMP;VALUE=DATE-TIME:20260422T080052Z
UID:60ba570cfc1399fa32b4d2305b71e3ff
CREATED;VALUE=DATE-TIME:20110702T000000Z
LOCATION:Pati del C.C.Calisay - Riera del Pare Fita, 31
ORGANIZER:Joventut Franciscana d' Arenys de Mar
COMMENT:Durada: 13:30
URL:https://arenysdemar.cat/document.php?id=22995
END:VEVENT
END:VCALENDAR